BEGIN:VCALENDAR
VERSION:2.0
PRODID:-//Plone.org//NONSGML plone.app.event//EN
X-WR-TIMEZONE:Europe/Madrid
BEGIN:VEVENT
SUMMARY:Weekly seminar: ISIS Lite
DTSTART;TZID=Europe/Madrid:20110211T120000
DTEND;TZID=Europe/Madrid:20110211T133000
DTSTAMP:20260419T193302Z
UID:1db173078b5c0e76961a90153cc32efa@peter3.upc.edu:11901
CREATED:20110208T181300Z
DESCRIPTION:Tittle: ISIS Lite\nSpeakers: Marc and Juanma
LAST-MODIFIED:20110208T181300Z
LOCATION:C4-028b
URL:https://icarus.upc.edu/en/events/weekly-seminar-isis-lite
END:VEVENT
BEGIN:VTIMEZONE
TZID:Europe/Madrid
X-LIC-LOCATION:Europe/Madrid
BEGIN:STANDARD
DTSTART:20101031T020000
TZNAME:CET
TZOFFSETFROM:+0200
TZOFFSETTO:+0100
END:STANDARD
END:VTIMEZONE
END:VCALENDAR
