BEGIN:VCALENDAR
VERSION:2.0
PRODID:-//Plone.org//NONSGML plone.app.event//EN
X-WR-TIMEZONE:Europe/Madrid
BEGIN:VEVENT
SUMMARY:ICARUS weekly seminar
DTSTART;TZID=Europe/Madrid:20120622T120000
DTEND;TZID=Europe/Madrid:20120622T132000
DTSTAMP:20260420T033215Z
UID:0d75ccbe-4000-4f68-a4af-ef5c4b01afde@peter3.upc.edu:11901
CREATED:20120619T112000Z
DESCRIPTION:Title: Digital Camera Calibration for Aerial Systems\nSpeaker:
  Carles Pou
LAST-MODIFIED:20120619T112000Z
LOCATION:C4-028b
URL:https://icarus.upc.edu/en/events/icarus-weekly-seminar-8
END:VEVENT
BEGIN:VTIMEZONE
TZID:Europe/Madrid
X-LIC-LOCATION:Europe/Madrid
BEGIN:DAYLIGHT
DTSTART:20120325T030000
TZNAME:CEST
TZOFFSETFROM:+0100
TZOFFSETTO:+0200
END:DAYLIGHT
END:VTIMEZONE
END:VCALENDAR
